BEGIN:VCALENDAR
VERSION:2.0
PRODID:-//wp-events-plugin.com//7.2.3.1//EN
BEGIN:VEVENT
UID:55@northeastgmc.org
DTSTART;VALUE=DATE:20250707
DTEND;VALUE=DATE:20250712
DTSTAMP:20250320T154946Z
URL:https://northeastgmc.org/events/summer-camp/
SUMMARY:Summer Camp!
DESCRIPTION:&nbsp\;\n\nExperience the awe of God and the movement of the Ho
 ly Spirit as we go deep in our faith journey at this year’s summer camp 
 for the Northeast Global Methodist Church.  Your child or youth will enco
 unter the Holy Spirit\, go deeper in their discipleship walk with Jesus Ch
 rist\, and be equipped to defend the Christian faith.  This will all be c
 ombined with faith building activities\, powerful daily worship\, and prac
 tical hands-on-lessons that will transform your child’s relationship wit
 h Jesus Christ.  This five day camp will directly impact your child/youth
 \, your family\, your church\, and your community.  Be part of this new j
 ourney and come expecting the movement of the Holy Spirit.\n\nFor more inf
 ormation or to register your camper go to northeastgmc.org/camping
ATTACH;FMTTYPE=image/jpeg:https://northeastgmc.org/wp-content/uploads/2025
 /02/Encountering-God-youth-Camp.png
LOCATION:Penn Grove Retreat Center\, 6419 Pamadeva Rd\, Hanover\, PA\, 1733
 1\, United States
X-APPLE-STRUCTURED-LOCATION;VALUE=URI;X-ADDRESS=6419 Pamadeva Rd\, Hanover\
 , PA\, 17331\, United States;X-APPLE-RADIUS=100;X-TITLE=Penn Grove Retreat
  Center:geo:0,0
END:VEVENT
END:VCALENDAR